{"text_format":"1","workbook":"xlsx","n_sheets":4,"sheets":["Welkom","NL","ENG","Overzicht"],"not_rendered":{"charts":0,"images":6,"macros":1,"external_links":0,"defined_names":2,"comments":2,"pivot_tables":0},"unopened":[],"bounds":{"document_bytes":16777216,"sheet_cells":100000,"rows_first":2000,"rows_last":500,"rows_between":2000,"halvings":0,"cell_chars":16384,"cell_head_chars":4096},"cells_cut":0,"cells_raw":0,"read":"whole","date_system":"1900"}

{"sheet":"Welkom","index":0,"n_rows":0,"n_cols":0,"rows_kept":0,"cut":false,"hidden":false,"merged":[]}

{"sheet":"NL","index":1,"n_rows":32,"n_cols":33,"rows_kept":32,"cut":false,"hidden":false,"merged":[[6,26,6,28]]}
["Keuzetool Biobased plastics"]
[null,null,"'Bioplastics4U'"]
[null,null,null,"Case:"]
[]
[null,null,null,null,null,null,null,null,null,null,"RESULTAAT:"]
[null,null,null,null,"EIGENSCHAP",{"$f":"B9","v":"% Biobased"},{"$f":"B11","v":"Bioafbreekbaarheid"},{"$f":"B13","v":"Temp. Vormvastheid"},{"$f":"B15","v":"Transparantie"},{"$f":"B17","v":"Oplosbaarheid"},{"$f":"B19","v":"Barrière"},{"$f":"B21","v":"Taaiheid"},{"$f":"B23","v":"Stijfheid"},{"$f":"B25","v":"Sterkte"},{"$f":"B27","v":"Levensfase"},{"$f":"B29","v":"Materiaalkosten"}]
[null,"IN TE VULLEN EISENTABEL:",null,null,"EISEN",{"$f":"IF(C9=0,\"\",C9)","v":""},{"$f":"IF(C11=0,\"\",C11)","v":""},{"$f":"IF($C13=0,\"\",$C13)","v":""},{"$f":"IF($C15=0,\"\",$C15)","v":""},{"$f":"IF($C17=0,\"\",$C17)","v":""},{"$f":"IF($C19=0,\"\",$C19)","v":""},{"$f":"IF($C21=0,\"\",$C21)","v":""},{"$f":"IF($C23=0,\"\",$C23)","v":""},{"$f":"IF($C25=0,\"\",$C25)","v":""},{"$f":"IF($C27=0,\"\",$C27)","v":""},{"$f":"IF(C29=0,\" \",C29)","v":" "},"SCORE"]
[null,null,"Invoervelden:"]
[1,"% Biobased",null,null,null,null,null,null,null,null,null,null,null,null,null,null,null,null,"100%","Gedeeltelijk","0%","N.v.t.",null,null,null,null,null,null,null,null,"Uitkomst ongesorteerd"]
[null,null,null,null,"PLA",1,0,1,1,0,1,1,0,1,1,0,{"$f":"SUM(F10:P10)","v":7},"PLA",0,0,0,null,0,{"$f":"Q10/11*100","v":63.636363636363633},{"$f":"_xlfn.RANK.EQ(X10,X10:X29,0)","v":2},null,null,null,null,null,"PLA",{"$f":"X10","v":63.636363636363633},{"$f":"Y10","v":2}]
[2,"Bioafbreekbaarheid",null,null,null,null,null,null,null,null,null,null,null,null,null,null,null,"PHA",0,0,0,0,0,{"$f":"Q12/11*100","v":72.727272727272734},{"$f":"_xlfn.RANK.EQ(X11,X10:X29,0)","v":1},null,null,null,null,null,"PHA",72.727272727272734,1]
[null,null,null,null,"PHA",1,1,0,0,0,1,1,1,1,1,1,{"$f":"SUM(F12:P12)","v":8},"TPS",0,0,0,null,0,{"$f":"Q14/11*100","v":63.636363636363633},{"$f":"_xlfn.RANK.EQ(X12,X10:X29,0)","v":2},null,null,null,null,null,"TPS",63.636363636363633,2]
[3,"Temp. Vormvastheid",null,null,null,null,null,null,null,null,null,null,null,null,null,null,null,"CA",0,0,0,null,0,{"$f":"Q16/11*100","v":27.27272727272727},{"$f":"_xlfn.RANK.EQ(X13,X10:X29,0)","v":8},null,null,null,null,null,"CA",27.27272727272727,8]
[null,null,null,null,"TPS",1,1,0,0,1,1,1,1,1,0,0,{"$f":"SUM(F14:P14)","v":7},"PA-11",0,0,null,null,0,{"$f":"Q18/11*100","v":45.454545454545453},{"$f":"_xlfn.RANK.EQ(X14,X10:X29,0)","v":6},null,null,null,null,null,"PA-11",45.454545454545453,6]
[4,"Transparantie",null,null,null,null,null,null,null,null,null,null,null,null,null,null,null,"PEF",0,0,0,0,0,{"$f":"Q20/11*100","v":63.636363636363633},{"$f":"_xlfn.RANK.EQ(X15,X10:X29,0)","v":2},null,null,null,null,null,"PEF",63.636363636363633,2]
[null,null,null,null,"CA",0,0,1,1,0,0,0,0,1,0,0,{"$f":"SUM(F16:P16)","v":3},"bioPET",0,0,null,null,0,{"$f":"Q22/11*100","v":27.27272727272727},{"$f":"_xlfn.RANK.EQ(X16,X10:X29,0)","v":8},null,null,null,null,null,"bioPET",27.27272727272727,8]
[5,"Oplosbaarheid",null,null,null,null,null,null,null,null,null,null,null,null,null,null,null,"bioPE",0,0,null,null,0,{"$f":"Q24/11*100","v":45.454545454545453},{"$f":"_xlfn.RANK.EQ(X17,X10:X29,0)","v":6},null,null,null,null,null,"bioPE",45.454545454545453,6]
[null,null,null,null,"PA-11",1,0,1,1,0,0,0,1,1,0,0,{"$f":"SUM(F18:P18)","v":5},"bioPP",0,0,null,null,0,{"$f":"Q26/11*100","v":54.54545454545454},{"$f":"_xlfn.RANK.EQ(X18,X10:X29,0)","v":5},null,null,null,null,null,"bioPP",54.54545454545454,5]
[6,"Barrière",null,null,null,null,null,null,null,null,null,null,null,null,null,null,null,"PBAT",0,0,0,0,0,{"$f":"Q28/11*100","v":27.27272727272727},{"$f":"_xlfn.RANK.EQ(X19,X10:X29,0)","v":8},null,null,null,null,null,"PBAT",27.27272727272727,8]
[null,null,null,null,"PEF",1,0,0,1,0,1,1,0,1,1,1,{"$f":"SUM(F20:P20)","v":7},"PBS",null,null,null,null,null,{"$f":"Q30/11*100","v":27.27272727272727},{"$f":"_xlfn.RANK.EQ(X20,X10:X20,0)","v":8},null,null,null,null,null,"PBS",27.27272727272727,8]
[7,"Taaiheid",null,null,null,null,null,null,null,null,null,null,null,null,null,null,null,null,"Taai","Minder taai","N.v.t.",null,null,null,null,null,null,null,null,null,"uitkomst gesorteerd"]
[null,null,null,null,"bioPET",0,0,0,0,0,0,1,0,1,1,0,{"$f":"SUM(F22:P22)","v":3},null,null,null,null,null,null,null,null,null,null,null,null,null,"TPS",63.636363636363633,1]
[8,"Stijfheid",null,null,null,null,null,null,null,null,null,null,null,null,null,null,null,null,"Stijf","Minder stijf","N.v.t.",null,null,null,null,null,null,null,null,null,"PHA",54.54545454545454,2]
[null,null,null,null,"bioPE",1,0,0,1,0,0,1,1,1,0,0,{"$f":"SUM(F24:P24)","v":5},null,null,null,null,null,null,null,null,null,null,null,null,null,"PBS",54.54545454545454,2]
[9,"Sterkte",null,null,null,null,null,null,null,null,null,null,null,null,null,null,null,null,"Sterk","Minder sterk","N.v.t.",null,null,null,null,null,null,null,null,null,"PEF",45.454545454545453,4]
[null,null,null,null,"bioPP",1,0,0,1,0,0,1,1,1,0,1,{"$f":"SUM(F26:P26)","v":6},null,null,null,null,null,null,null,null,null,null,null,null,null,"bioPET",45.454545454545453,4]
[10,"Levensfase",null,null,null,null,null,null,null,null,null,null,null,null,null,null,null,null,"Research","Ontwikkeling","Groei","Volwassen","N.v.t.",null,null,null,null,null,null,null,"PLA",36.363636363636367,6]
[null,null,null,null,"PBAT",0,1,0,0,0,0,0,1,1,0,0,{"$f":"SUM(F28:P28)","v":3},null,null,null,null,null,null,null,null,null,null,null,null,null,"CA",36.363636363636367,6]
[11,"Materiaalkosten",null,null,null,null,null,null,null,null,null,null,null,null,null,null,null,null,"< 2 €/kg","  2 - 5  €/kg","  > 5  €/kg","N.v.t.",null,null,null,null,null,null,null,null,"PA-11",36.363636363636367,6]
[null,null,null,null,"PBS",0,1,0,0,0,0,0,1,1,0,0,{"$f":"SUM(F30:P30)","v":3},null,0,0,0,null,0,null,null,null,null,null,null,null,"bioPP",36.363636363636367,6]
[null,null,null,null,null,null,null,null,null,null,null,null,null,null,null,null,null,null,null,null,null,null,null,null,null,null,null,null,null,null,"bioPE",27.27272727272727,10]
[null,null,null,null,null,null,null,null,null,null,null,null,null,null,null,null,null,null,null,null,null,null,null,null,null,null,null,null,null,null,"PBAT",27.27272727272727,10]

{"sheet":"ENG","index":2,"n_rows":30,"n_cols":23,"rows_kept":30,"cut":false,"hidden":false,"merged":[]}
["Selection Tool Biobased Plastics"]
[null,null,"'Bioplastics4U'"]
[null,null,null,"Case:"]
[]
[null,null,null,null,null,null,null,null,null,null,"RESULTS:"]
[null,null,null,null,"PROPERTY",{"$f":"B9","v":"% Biobased"},{"$f":"B11","v":"Biodegradability"},{"$f":"B13","v":"Heat Deflection stab."},{"$f":"B15","v":"Transparancy"},{"$f":"B17","v":"Solubility"},{"$f":"B19","v":"Barrier properties"},{"$f":"B21","v":"Tenacity"},{"$f":"B23","v":"Rigidness"},{"$f":"B25","v":"Tensile strength"},{"$f":"B27","v":"Phase in lifecycle"},{"$f":"B29","v":"Material costs"}]
[null,"TABLE OF REQUIREMENTS:",null,null,"REQUIREMENTS",{"$f":"IF(C9=0,\"\",C9)","v":""},{"$f":"IF(C11=0,\"\",C11)","v":""},{"$f":"IF($C13=0,\"\",$C13)","v":""},{"$f":"IF($C15=0,\"\",$C15)","v":""},{"$f":"IF($C17=0,\"\",$C17)","v":""},{"$f":"IF($C19=0,\"\",$C19)","v":""},{"$f":"IF($C21=0,\"\",$C21)","v":""},{"$f":"IF($C23=0,\"\",$C23)","v":""},{"$f":"IF($C25=0,\"\",$C25)","v":""},{"$f":"IF($C27=0,\"\",$C27)","v":""},{"$f":"IF(C29=0,\" \",C29)","v":" "},"SCORE"]
[null,null,"Input cells:"]
[1,"% Biobased",null,null,null,null,null,null,null,null,null,null,null,null,null,null,null,null,"100%","Partly","0%","Not applicable"]
[null,null,null,null,"PLA",{"$f":"IF(F$7=S$9,1,IF(F$7=V$9,1,0))","v":0},{"$f":"IF(G$7=T$11,1,IF(G$7=W$11,1,0))","v":0},{"$f":"IF(H$7=S$13,1,IF(H$7=T$13,1,IF(H$7=U$13,1,IF(H$7=V$13,1,0))))","v":0},{"$f":"IF(I$7=T$15,1,IF(I$7=U$15,1,IF(I$7=V$15,1,0)))","v":0},{"$f":"IF(J$7=S$17,1,IF(J$7=U$17,1,0))","v":0},{"$f":"IF(K$7=V$19,1,IF(K$7=W$19,1,0))","v":0},{"$f":"IF(L$7=T$21,1,IF(L$7=U$21,1,0))","v":0},{"$f":"IF(M$7=S$23,1,IF(M$7=U$23,1,0))","v":0},{"$f":"IF(N$7=S$25,1,IF(N$7=U$25,1,0))","v":0},{"$f":"IF(O$7=S$27,1,IF(O$7=T$27,1,IF(O$7=U$27,1,IF(O$7=V$27,1,IF(O$7=W$27,1,0)))))","v":0},{"$f":"IF(P$7=S$29,1,IF(P$7=T$29,1,IF(P$7=V$29,1,0)))","v":0},{"$f":"SUM(F10:P10)","v":0},null,0,0,0,null,0]
[2,"Biodegradability",null,null,null,null,null,null,null,null,null,null,null,null,null,null,null,null,"Not degradable","Compostable","In soil","In water","Not applicable"]
[null,null,null,null,"PHA",{"$f":"IF(F$7=S$9,1,IF(F$7=V$9,1,0))","v":0},{"$f":"IF(G$7=T$11,1,IF(G$7=U$11,1,IF(G$7=V$11,1,IF(G$7=W$11,1,0))))","v":0},{"$f":"IF(H$7=S$13,1,IF(H$7=V$13,1,0))","v":0},{"$f":"IF(I$7=S$15,1,IF(I$7=T$15,1,IF(I$7=V$15,1,0)))","v":0},{"$f":"IF(J$7=S$17,1,IF(J$7=U$17,1,0))","v":0},{"$f":"IF(K$7=S$19,1,IF(K$7=V$19,1,IF(K$7=W$19,1,0)))","v":0},{"$f":"IF(L$7=T$21,1,IF(L$7=U$21,1,0))","v":0},{"$f":"IF(M$7=S$23,1,IF(M$7=U$23,1,0))","v":0},{"$f":"IF(N$7=T$25,1,IF(N$7=U$25,1,0))","v":0},{"$f":"IF(O$7=S$27,1,IF(O$7=T$27,1,IF(O$7=U$27,1,IF(O$7=V$27,1,IF(O$7=W$27,1,0)))))","v":0},{"$f":"IF(P$7=T$29,1,IF(P$7=U$29,1,IF(P$7=V$29,1,0)))","v":0},{"$f":"SUM(F12:P12)","v":0},null,0,0,0,0,0]
[3,"Heat Deflection stab.",null,null,null,null,null,null,null,null,null,null,null,null,null,null,null,null,"< 60 ⁰C","≤ 100 ⁰C","> 100 ⁰C","Not applicable"]
[null,null,null,null,"TPS",{"$f":"IF(F$7=S$9,1,IF(F$7=T$9,1,IF(F$7=V$9,1,0)))","v":0},{"$f":"IF(G$7=T$11,1,IF(G$7=U$11,1,IF(G$7=V$11,1,IF(G$7=W$11,1,0))))","v":0},{"$f":"IF(H$7=S$13,1,IF(H$7=V$13,1,0))","v":0},{"$f":"IF(I$7=S$15,1,IF(I$7=T$15,1,IF(I$7=V$15,1,0)))","v":0},{"$f":"IF(J$7=T$17,1,IF(J$7=U$17,1,0))","v":0},{"$f":"IF(K$7=T$19,1,IF(K$7=V$19,1,IF(K$7=W$19,1,0)))","v":0},{"$f":"IF(L$7=S$21,1,IF(L$7=T$21,1,IF(L$7=U$21,1,0)))","v":0},{"$f":"IF(M$7=T$23,1,IF(M$7=U$23,1,0))","v":0},{"$f":"IF(N$7=T$25,1,IF(N$7=U$25,1,0))","v":0},{"$f":"IF(O$7=U$27,1,IF(O$7=V$27,1,IF(O$7=W$27,1,0)))","v":0},{"$f":"IF(P$7=S$29,1,IF(P$7=T$29,1,IF(P$7=V$29,1,0)))","v":0},{"$f":"SUM(F14:P14)","v":0},null,0,0,0,null,0]
[4,"Transparancy",null,null,null,null,null,null,null,null,null,null,null,null,null,null,null,null,"0%","Opaque","100%","Not applicable"]
[null,null,null,null,"CA",{"$f":"IF(F$7=T$9,1,IF(F$7=V$9,1,0))","v":0},{"$f":"IF(G$7=T$11,1,IF(G$7=W$11,1,0))","v":0},{"$f":"IF(H$7=S$13,1,IF(H$7=T$13,1,IF(H$7=U$13,1,IF(H$7=V$13,1,0))))","v":0},{"$f":"IF(I$7=U$15,1,IF(I$7=V$15,1,0))","v":0},{"$f":"IF(J$7=S$17,1,IF(J$7=U$17,1,0))","v":0},{"$f":"IF(K$7=S$19,1,IF(K$7=W$19,1,0))","v":0},{"$f":"IF(L$7=S$21,1,IF(L$7=U$21,1,0))","v":0},{"$f":"IF(M$7=T$23,1,IF(M$7=U$23,1,0))","v":0},{"$f":"IF(N$7=T$25,1,IF(N$7=U$25,1,0))","v":0},{"$f":"IF(O$7=V$27,1,IF(O$7=W$27,1,0))","v":0},{"$f":"IF(P$7=T$29,1,IF(P$7=V$29,1,0))","v":0},{"$f":"SUM(F16:P16)","v":0},null,0,0,0,null,0]
[5,"Solubility",null,null,null,null,null,null,null,null,null,null,null,null,null,null,null,null,"H2O resistant","H2O soluable","Not applicable"]
[null,null,null,null,"PA-11",{"$f":"IF(F$7=S$9,1,IF(F$7=V$9,1,0))","v":0},{"$f":"IF(G$7=S$11,1,IF(G$7=W$11,1,0))","v":0},{"$f":"IF(H$7=S$13,1,IF(H$7=T$13,1,IF(H$7=U$13,1,IF(H$7=V$13,1,0))))","v":0},{"$f":"IF(I$7=U$15,1,IF(I$7=V$15,1,0))","v":0},{"$f":"IF(J$7=S$17,1,IF(J$7=U$17,1,0))","v":0},{"$f":"IF(K$7=S$19,1,IF(K$7=W$19,1,0))","v":0},{"$f":"IF(L$7=S$21,1,IF(L$7=U$21,1,0))","v":0},{"$f":"IF(M$7=T$23,1,IF(M$7=U$23,1,0))","v":0},{"$f":"IF(N$7=S$25,1,IF(N$7=U$25,1,0))","v":0},{"$f":"IF(O$7=V$27,1,IF(O$7=W$27,1,0))","v":0},{"$f":"IF(P$7=T$29,1,IF(P$7=V$29,1,0))","v":0},{"$f":"SUM(F18:P18)","v":0},null,0,0,null,null,0]
[6,"Barrier properties",null,null,null,null,null,null,null,null,null,null,null,null,null,null,null,null,"Water vapour","O2","CO2","UV","Not applicable"]
[null,null,null,null,"PEF",{"$f":"IF(F$7=S$9,1,IF(F$7=V$9,1,0))","v":0},{"$f":"IF(G$7=S$11,1,IF(G$7=W$11,1,0))","v":0},{"$f":"IF(H$7=S$13,1,IF(H$7=T$13,1,IF(H$7=V$13,1,0)))","v":0},{"$f":"IF(I$7=U$15,1,IF(I$7=V$15,1,0))","v":0},{"$f":"IF(J$7=S$17,1,IF(J$7=U$17,1,0))","v":0},{"$f":"IF(K$7=S$19,1,IF(K$7=T$19,1,IF(K$7=U$19,1,IF(K$7=W$19,1,0))))","v":0},{"$f":"IF(L$7=T$21,1,IF(L$7=U$21,1,0))","v":0},{"$f":"IF(M$7=S$23,1,IF(M$7=U$23,1,0))","v":0},{"$f":"IF(N$7=S$25,1,IF(N$7=U$25,1,0))","v":0},{"$f":"IF(O$7=S$27,1,IF(O$7=T$27,1,IF(O$7=W$27,1,0)))","v":0},{"$f":"IF(P$7=U$29,1,IF(P$7=V$29,1,0))","v":0},{"$f":"SUM(F20:P20)","v":0},null,0,0,0,0,0]
[7,"Tenacity",null,null,null,null,null,null,null,null,null,null,null,null,null,null,null,null,"Tenacious","Less tenacious","Not applicable"]
[null,null,null,null,"bioPET",{"$f":"IF(F$7=T$9,1,IF(F$7=V$9,1,0))","v":0},{"$f":"IF(G$7=S$11,1,IF(G$7=W$11,1,0))","v":0},{"$f":"IF(H$7=S$13,1,IF(H$7=T$13,1,IF(H$7=V$13,1,0)))","v":0},{"$f":"IF(I$7=U$15,1,IF(I$7=V$15,1,0))","v":0},{"$f":"IF(J$7=S$17,1,IF(J$7=U$17,1,0))","v":0},{"$f":"IF(K$7=S$19,1,IF(K$7=T$19,1,IF(K$7=U$19,1,IF(K$7=W$19,1,IF(K$7=V19,1,0)))))","v":0},{"$f":"IF(L$7=T$21,1,IF(L$7=U$21,1,0))","v":0},{"$f":"IF(M$7=S$23,1,IF(M$7=U$23,1,0))","v":0},{"$f":"IF(N$7=S$25,1,IF(N$7=U$25,1,0))","v":0},{"$f":"IF(O$7=T$27,1,IF(O$7=U$27,1,IF(O$7=W$27,1,0)))","v":0},{"$f":"IF(P$7=T$29,1,IF(P$7=V$29,1,0))","v":0},{"$f":"SUM(F22:P22)","v":0},null,0,0,null,null,0]
[8,"Rigidness",null,null,null,null,null,null,null,null,null,null,null,null,null,null,null,null,"Rigid","Less rigid","Not applicable"]
[null,null,null,null,"bioPE",{"$f":"IF(F$7=S$9,1,IF(F$7=V$9,1,0))","v":0},{"$f":"IF(G$7=S$11,1,IF(G$7=W$11,1,0))","v":0},{"$f":"IF(H$7=S$13,1,IF(H$7=V$13,1,0))","v":0},{"$f":"IF(I$7=U$15,1,IF(I$7=V$15,1,0))","v":0},{"$f":"IF(J$7=S$17,1,IF(J$7=U$17,1,0))","v":0},{"$f":"IF(K$7=S$19,1,IF(K$7=W$19,1,0))","v":0},{"$f":"IF(L$7=S$21,1,IF(L$7=T$21,1,IF(L$7=U$21,1,0)))","v":0},{"$f":"IF(M$7=S$23,1,IF(M$7=U$23,1,0))","v":0},{"$f":"IF(N$7=T$25,1,IF(N$7=U$25,1,0))","v":0},{"$f":"IF(O$7=U$27,1,IF(O$7=V$27,1,IF(O$7=W$27,1,0)))","v":0},{"$f":"IF(P$7=S$29,1,IF(P$7=V$29,1,0))","v":0},{"$f":"SUM(F24:P24)","v":0},null,0,0,null,null,0]
[9,"Tensile strength",null,null,null,null,null,null,null,null,null,null,null,null,null,null,null,null,"Strong","Less strong","Not applicable"]
[null,null,null,null,"bioPP",{"$f":"IF(F$7=S$9,1,IF(F$7=V$9,1,0))","v":0},{"$f":"IF(G$7=S$11,1,IF(G$7=W$11,1,0))","v":0},{"$f":"IF(H$7=S$13,1,IF(H$7=T$13,1,IF(H$7=V$13,1,0)))","v":0},{"$f":"IF(I$7=T$15,1,IF(I$7=U$15,1,IF(I$7=V$15,1,0)))","v":0},{"$f":"IF(J$7=S$17,1,IF(J$7=U$17,1,0))","v":0},{"$f":"IF(K$7=S$19,1,IF(K$7=W$19,1,0))","v":0},{"$f":"IF(L$7=T$21,1,IF(L$7=U$21,1,0))","v":0},{"$f":"IF(M$7=T$23,1,IF(M$7=U$23,1,0))","v":0},{"$f":"IF(N$7=T$25,1,IF(N$7=U$25,1,0))","v":0},{"$f":"IF(O$7=T$27,1,IF(O$7=W$27,1,0))","v":0},{"$f":"IF(P$7=U$29,1,IF(P$7=V$29,1,0))","v":0},{"$f":"SUM(F26:P26)","v":0},null,0,0,null,null,0]
[10,"Phase in lifecycle",null,null,null,null,null,null,null,null,null,null,null,null,null,null,null,null,"Research","Development","Growth","Maturity","Not applicable"]
[null,null,null,null,"PBAT",{"$f":"IF(F$7=U$9,1,IF(F$7=V$9,1,0))","v":0},{"$f":"IF(G$7=T$11,1,IF(G$7=U$11,1,IF(G$7=W$11,1,0)))","v":0},{"$f":"IF(H$7=S$13,1,IF(H$7=V$13,1,0))","v":0},{"$f":"IF(I$7=T$15,1,IF(I$7=V$15,1,0))","v":0},{"$f":"IF(J$7=S$17,1,IF(J$7=U$17,1,0))","v":0},{"$f":"IF(K$7=S$19,1,IF(K$7=W$19,1,0))","v":0},{"$f":"IF(L$7=S$21,1,IF(L$7=U$21,1,0))","v":0},{"$f":"IF(M$7=T$23,1,IF(M$7=U$23,1,0))","v":0},{"$f":"IF(N$7=T$25,1,IF(N$7=U$25,1,0))","v":0},{"$f":"IF(O$7=V$27,1,IF(O$7=W$27,1,0))","v":0},{"$f":"IF(P$7=T$29,1,IF(P$7=V$29,1,0))","v":0},{"$f":"SUM(F28:P28)","v":0},null,0,0,0,0,0]
[11,"Material costs",null,null,null,null,null,null,null,null,null,null,null,null,null,null,null,null,"< 2 €/kg","  2 - 5  €/kg","  > 5  €/kg","Not applicable"]
[null,null,null,null,null,null,null,null,null,null,null,null,null,null,null,null,null,null,0,0,0,null,0]

{"sheet":"Overzicht","index":3,"n_rows":48,"n_cols":4,"rows_kept":48,"cut":false,"hidden":false,"merged":[]}
[]
[]
[]
[]
[]
[]
["De door u meegegeven eisen zijn:"]
["1. Hernieuwbaarheid",1]
["2. Biodegradeerbaarheid","In grond"]
["3. Temperatuur/Vormvastheid",">100°C"]
["4. Transparantie",1]
["5. Oplosbaarheid in water","H20 oplosbaar"]
["6. Gasbarrière","UV"]
["7. Taaiheid","Taai"]
["8. Stijfheid","Minder stijf"]
["9. Sterkte","n.v.t."]
["10. Levensfase","Ontwikkeling"]
["11. Materiaalkosten",">5€/kg"]
[]
[null,"Uit uw gestelde eisen is het volgende gebleken:"]
[]
[{"$f":"NL!AG22","v":1},{"$f":"NL!AE22","v":"TPS"},{"$f":"ROUND(NL!AF22,0)","v":64},"% passend"]
[{"$f":"NL!AG23","v":2},{"$f":"NL!AE23","v":"PHA"},{"$f":"ROUND(NL!AF23,0)","v":55},"% passend"]
[{"$f":"NL!AG24","v":2},{"$f":"NL!AE24","v":"PBS"},{"$f":"ROUND(NL!AF24,0)","v":55},"% passend"]
[{"$f":"NL!AG25","v":4},{"$f":"NL!AE25","v":"PEF"},{"$f":"ROUND(NL!AF25,0)","v":45},"% passend"]
[{"$f":"NL!AG26","v":4},{"$f":"NL!AE26","v":"bioPET"},{"$f":"ROUND(NL!AF26,0)","v":45},"% passend"]
[{"$f":"NL!AG27","v":6},{"$f":"NL!AE27","v":"PLA"},{"$f":"ROUND(NL!AF27,0)","v":36},"% passend"]
[{"$f":"NL!AG28","v":6},{"$f":"NL!AE28","v":"CA"},{"$f":"ROUND(NL!AF28,0)","v":36},"% passend"]
[{"$f":"NL!AG29","v":6},{"$f":"NL!AE29","v":"PA-11"},{"$f":"ROUND(NL!AF29,0)","v":36},"% passend"]
[{"$f":"NL!AG30","v":6},{"$f":"NL!AE30","v":"bioPP"},{"$f":"ROUND(NL!AF30,0)","v":36},"% passend"]
[{"$f":"NL!AG31","v":10},{"$f":"NL!AE31","v":"bioPE"},{"$f":"ROUND(NL!AF31,0)","v":27},"% passend"]
[{"$f":"NL!AG32","v":10},{"$f":"NL!AE32","v":"PBAT"},{"$f":"ROUND(NL!AF32,0)","v":27},"% passend"]
[]
[]
[]
[]
[]
[]
[]
[]
[]
[]
[]
[]
[]
[]
["* Deze uitslag is een schatting van de juiste plastics voor uw toepassing. "]
["Neem, voordat u deze toepassing gaat uivoeren, a.u.b. contact op met een professional"]